BEGIN:VCALENDAR
VERSION:2.0
PRODID:-//eventon.com NONSGML v1.0//EN
BEGIN:VEVENT
UID:69e61df4cb5f8
DTSTAMP:20260420T123708
DTSTART:20260302T070000Z
DTEND:20260302T083000Z
TZID:Pacific/Midway
LOCATION:
SUMMARY:Što treba znati o treningu obiteljskog psa
DESCRIPTION: Sve veći broj vlasnika/skrbnika pasa odlučuje se za trening pasa. Neki žele sami trenirati pse\,  neki vode pse na trening u grupi\,  a neki se odluče za individualne sate. U današnjem urbanom društvu neophodno je naučiti psa da nuždu obavlja vani\,  a dobra je odluka naučiti ga da dođe na[..]\nhttps://argos.hr/events/sto-treba-znati-o-treningu-obiteljskog-psa-14/
URL:https://argos.hr/events/sto-treba-znati-o-treningu-obiteljskog-psa-14/
END:VEVENT
END:VCALENDAR