BEGIN:VCALENDAR
VERSION:2.0
PRODID:-//eventon.com NONSGML v1.0//EN
BEGIN:VEVENT
UID:69e9de7b4c1ec
DTSTAMP:20260423T085523
DTSTART:20241028T070000Z
DTEND:20241028T083000Z
TZID:Pacific/Midway
LOCATION:
SUMMARY:Reaktivni psi
DESCRIPTION: Često mi pišu vlasnici/skrbnici pasa koji se teško snalaze u brzim promjenama u ponašanju njihovih ljubimaca. Psi koji se lako uzbude\,  brzo prelaze iz jednog ponašanja u drugo\,  pretjerano uzbuđeno vuku na povodcu\,  izvode neke kompulzivne radnje\,  intenzivno laju\,   imaju nizak prag podražaja te se mogu smatrati reaktivnima. Ovaj problem[..]\nhttps://argos.hr/events/reaktivni-psi-14/
URL:https://argos.hr/events/reaktivni-psi-14/
END:VEVENT
END:VCALENDAR