BEGIN:VCALENDAR
VERSION:2.0
PRODID:-//eventon.com NONSGML v1.0//EN
BEGIN:VEVENT
UID:69e9de51e8055
DTSTAMP:20260423T085441
DTSTART:20240325T070000Z
DTEND:20240325T083000Z
TZID:Pacific/Midway
LOCATION:
SUMMARY:Novi pas stiže u vaš dom
DESCRIPTION: U vaš život ušao je četverenožni prijatelj\,  novi stanar vašeg doma i pseća osoba koja će u potpunosti ovisiti o vama. Pripremite se tako da ovo bude jedno prekrasno životno iskustvo! Neovisno da li ste se odlučili udomiti ili kupiti psa\,  uzeli štene ili odraslog psa\,  za ugodan suživot potrebno[..]\nhttps://argos.hr/events/novi-pas-stize-u-vas-dom-5/
URL:https://argos.hr/events/novi-pas-stize-u-vas-dom-5/
END:VEVENT
END:VCALENDAR