BEGIN:VCALENDAR
VERSION:2.0
PRODID:-//eventon.com NONSGML v1.0//EN
BEGIN:VEVENT
UID:69e5e35fce826
DTSTAMP:20260420T082711
DTSTART:20220627T200000Z
DTEND:20220627T211500Z
TZID:UTC
LOCATION:
SUMMARY:Šetnja sa psom – koga upoznati\,  koga se kloniti
DESCRIPTION: Najčešće zablude i kako ih izbjeći! Dok neki vlasnici/skrbnici pasa bezbrižno puštaju pse slobodno bez povodca\,  drugi smatraju da su njihovi psi reaktivni i traže pomoć jer im šetnje sa psom predstavljaju stres. Neki vlasnici/skrbnici svoje pse uopće ne izvode u šetnju\,  bilo da ih drže u stanu ili dvorištu[..]\nhttps://argos.hr/events/setnja-sa-psom-koga-upoznati-koga-se-kloniti-6/
URL:https://argos.hr/events/setnja-sa-psom-koga-upoznati-koga-se-kloniti-6/
END:VEVENT
END:VCALENDAR